Package: KBoost Version: 1.18.0 Command: /Library/Frameworks/R.framework/Resources/bin/R CMD INSTALL KBoost StartedAt: 2025-11-03 15:09:11 -0500 (Mon, 03 Nov 2025) EndedAt: 2025-11-03 15:09:24 -0500 (Mon, 03 Nov 2025) EllapsedTime: 12.5 seconds RetCode: 0 Status: OK