Package: KBoost Version: 1.18.0 Command: /Library/Frameworks/R.framework/Resources/bin/R CMD build --keep-empty-dirs --no-resave-data KBoost StartedAt: 2025-11-03 17:31:36 -0500 (Mon, 03 Nov 2025) EndedAt: 2025-11-03 17:31:47 -0500 (Mon, 03 Nov 2025) EllapsedTime: 11.5 seconds RetCode: 0 Status: OK PackageFile: KBoost_1.18.0.tar.gz PackageFileSize: 503.9 KiB