Package: KBoost Version: 1.16.0 Command: /home/biocbuild/R/R/bin/R CMD INSTALL KBoost StartedAt: 2025-10-13 20:12:37 -0000 (Mon, 13 Oct 2025) EndedAt: 2025-10-13 20:12:45 -0000 (Mon, 13 Oct 2025) EllapsedTime: 8.6 seconds RetCode: 0 Status: OK