Package: IsoformSwitchAnalyzeR Version: 2.10.0 Command: /home/biocbuild/R/R/bin/R CMD INSTALL IsoformSwitchAnalyzeR StartedAt: 2025-11-10 22:00:19 -0000 (Mon, 10 Nov 2025) EndedAt: 2025-11-10 22:01:46 -0000 (Mon, 10 Nov 2025) EllapsedTime: 87.3 seconds RetCode: 0 Status: OK