Package: IsoformSwitchAnalyzeR Version: 2.10.0 Command: /home/biocbuild/R/R/bin/R CMD build --keep-empty-dirs --no-resave-data IsoformSwitchAnalyzeR StartedAt: 2025-11-11 02:41:48 -0000 (Tue, 11 Nov 2025) EndedAt: 2025-11-11 02:48:06 -0000 (Tue, 11 Nov 2025) EllapsedTime: 378.2 seconds RetCode: 0 Status: OK PackageFile: IsoformSwitchAnalyzeR_2.10.0.tar.gz PackageFileSize: 4.81 MiB