Package: IsoformSwitchAnalyzeR Version: 2.10.0 Command: /home/biocbuild/bbs-3.22-bioc/R/bin/R CMD check --install=check:IsoformSwitchAnalyzeR.install-out.txt --library=/home/biocbuild/bbs-3.22-bioc/R/site-library --timings IsoformSwitchAnalyzeR_2.10.0.tar.gz StartedAt: 2025-11-12 00:51:54 -0500 (Wed, 12 Nov 2025) EndedAt: 2025-11-12 01:04:58 -0500 (Wed, 12 Nov 2025) EllapsedTime: 784.1 seconds RetCode: 0 Status: OK CheckDir: IsoformSwitchAnalyzeR.Rcheck Warnings: 0