Package: IsoformSwitchAnalyzeR Version: 2.10.0 Command: /home/biocbuild/bbs-3.22-bioc/R/bin/R CMD build --keep-empty-dirs --no-resave-data --md5 IsoformSwitchAnalyzeR StartedAt: 2025-11-11 18:24:35 -0500 (Tue, 11 Nov 2025) EndedAt: 2025-11-11 18:27:53 -0500 (Tue, 11 Nov 2025) EllapsedTime: 198.3 seconds RetCode: 0 Status: OK PackageFile: IsoformSwitchAnalyzeR_2.10.0.tar.gz PackageFileSize: 6.463 MiB