Package: IsoformSwitchAnalyzeR Version: 2.8.0 Command: /Library/Frameworks/R.framework/Resources/bin/R CMD INSTALL IsoformSwitchAnalyzeR StartedAt: 2025-10-02 16:29:25 -0400 (Thu, 02 Oct 2025) EndedAt: 2025-10-02 16:31:44 -0400 (Thu, 02 Oct 2025) EllapsedTime: 138.7 seconds RetCode: 0 Status: OK