Package: IsoformSwitchAnalyzeR Version: 2.8.0 Command: /Library/Frameworks/R.framework/Resources/bin/R CMD build --keep-empty-dirs --no-resave-data IsoformSwitchAnalyzeR StartedAt: 2025-10-02 20:01:11 -0400 (Thu, 02 Oct 2025) EndedAt: 2025-10-02 20:08:58 -0400 (Thu, 02 Oct 2025) EllapsedTime: 466.6 seconds RetCode: 0 Status: OK PackageFile: IsoformSwitchAnalyzeR_2.8.0.tar.gz PackageFileSize: 6.591 MiB