Package: IsoformSwitchAnalyzeR Version: 2.8.0 Command: rm -rf IsoformSwitchAnalyzeR.buildbin-libdir && mkdir IsoformSwitchAnalyzeR.buildbin-libdir && /Users/biocbuild/BBS/utils/build-universal.sh IsoformSwitchAnalyzeR_2.8.0.tar.gz /Library/Frameworks/R.framework/Resources/bin/R IsoformSwitchAnalyzeR.buildbin-libdir StartedAt: 2025-10-03 13:33:55 -0400 (Fri, 03 Oct 2025) EndedAt: 2025-10-03 13:37:37 -0400 (Fri, 03 Oct 2025) EllapsedTime: 221.8 seconds RetCode: 0 Status: OK PackageFile: IsoformSwitchAnalyzeR_2.8.0.tgz PackageFileSize: 7.392 MiB