Package: IsoCorrectoRGUI Version: 1.24.0 Command: E:\biocbuild\bbs-3.21-bioc\R\bin\R.exe CMD INSTALL IsoCorrectoRGUI StartedAt: 2025-08-14 15:36:30 -0400 (Thu, 14 Aug 2025) EndedAt: 2025-08-14 15:37:55 -0400 (Thu, 14 Aug 2025) EllapsedTime: 85.4 seconds RetCode: 0 Status: OK