Package: IsoCorrectoRGUI Version: 1.26.0 Command: /home/biocbuild/bbs-3.22-bioc/R/bin/R CMD check --install=check:IsoCorrectoRGUI.install-out.txt --library=/home/biocbuild/bbs-3.22-bioc/R/site-library --timings IsoCorrectoRGUI_1.26.0.tar.gz StartedAt: 2025-11-12 00:51:32 -0500 (Wed, 12 Nov 2025) EndedAt: 2025-11-12 00:52:06 -0500 (Wed, 12 Nov 2025) EllapsedTime: 34.0 seconds RetCode: 0 Status: OK CheckDir: IsoCorrectoRGUI.Rcheck Warnings: 0