Package: IsoCorrectoRGUI Version: 1.24.0 Command: /home/biocbuild/bbs-3.21-bioc/R/bin/R CMD INSTALL IsoCorrectoRGUI StartedAt: 2025-09-28 15:23:34 -0400 (Sun, 28 Sep 2025) EndedAt: 2025-09-28 15:23:38 -0400 (Sun, 28 Sep 2025) EllapsedTime: 3.9 seconds RetCode: 0 Status: OK