Package: IsoCorrectoRGUI Version: 1.24.0 Command: /home/biocbuild/R/R/bin/R CMD check --install=check:IsoCorrectoRGUI.install-out.txt --library=/home/biocbuild/R/R/site-library --no-vignettes --timings IsoCorrectoRGUI_1.24.0.tar.gz StartedAt: 2025-10-14 10:30:12 -0000 (Tue, 14 Oct 2025) EndedAt: 2025-10-14 10:30:49 -0000 (Tue, 14 Oct 2025) EllapsedTime: 37.0 seconds RetCode: 0 Status: OK CheckDir: IsoCorrectoRGUI.Rcheck Warnings: 0