Package: IsoCorrectoR Version: 1.28.0 Command: /home/biocbuild/R/R/bin/R CMD INSTALL IsoCorrectoR StartedAt: 2025-11-13 21:12:36 -0000 (Thu, 13 Nov 2025) EndedAt: 2025-11-13 21:12:52 -0000 (Thu, 13 Nov 2025) EllapsedTime: 15.9 seconds RetCode: 0 Status: OK