Package: IsoCorrectoR Version: 1.28.0 Command: /home/biocbuild/R/R/bin/R CMD build --keep-empty-dirs --no-resave-data IsoCorrectoR StartedAt: 2025-11-14 02:45:27 -0000 (Fri, 14 Nov 2025) EndedAt: 2025-11-14 02:45:40 -0000 (Fri, 14 Nov 2025) EllapsedTime: 13.0 seconds RetCode: 0 Status: OK PackageFile: IsoCorrectoR_1.28.0.tar.gz PackageFileSize: 1.687 MiB