Package: IsoCorrectoR Version: 1.26.0 Command: /home/biocbuild/R/R/bin/R CMD INSTALL IsoCorrectoR StartedAt: 2025-09-25 20:20:29 -0000 (Thu, 25 Sep 2025) EndedAt: 2025-09-25 20:20:35 -0000 (Thu, 25 Sep 2025) EllapsedTime: 6.6 seconds RetCode: 0 Status: OK