Package: IsoCorrectoR Version: 1.26.0 Command: /Library/Frameworks/R.framework/Resources/bin/R CMD INSTALL IsoCorrectoR StartedAt: 2025-10-13 15:22:56 -0400 (Mon, 13 Oct 2025) EndedAt: 2025-10-13 15:23:04 -0400 (Mon, 13 Oct 2025) EllapsedTime: 8.0 seconds RetCode: 0 Status: OK