Package: IsoCorrectoR Version: 1.26.0 Command: /Library/Frameworks/R.framework/Resources/bin/R CMD build --keep-empty-dirs --no-resave-data IsoCorrectoR StartedAt: 2025-10-14 02:56:41 -0400 (Tue, 14 Oct 2025) EndedAt: 2025-10-14 02:56:57 -0400 (Tue, 14 Oct 2025) EllapsedTime: 15.8 seconds RetCode: 0 Status: OK PackageFile: IsoCorrectoR_1.26.0.tar.gz PackageFileSize: 1.663 MiB