Package: IsoBayes Version: 1.8.0 Command: /home/biocbuild/bbs-3.22-bioc/R/bin/R CMD INSTALL IsoBayes StartedAt: 2025-11-02 15:34:41 -0500 (Sun, 02 Nov 2025) EndedAt: 2025-11-02 15:35:45 -0500 (Sun, 02 Nov 2025) EllapsedTime: 63.8 seconds RetCode: 0 Status: OK