Package: IsoBayes Version: 1.8.0 Command: /home/biocbuild/bbs-3.22-bioc/R/bin/R CMD build --keep-empty-dirs --no-resave-data --md5 IsoBayes StartedAt: 2025-10-31 18:28:16 -0400 (Fri, 31 Oct 2025) EndedAt: 2025-10-31 18:30:07 -0400 (Fri, 31 Oct 2025) EllapsedTime: 111.1 seconds RetCode: 0 Status: OK PackageFile: IsoBayes_1.8.0.tar.gz PackageFileSize: 1.796 MiB