Package: IntramiRExploreR Version: 1.32.0 Command: /home/biocbuild/R/R/bin/R CMD build --keep-empty-dirs --no-resave-data IntramiRExploreR StartedAt: 2025-11-14 02:41:45 -0000 (Fri, 14 Nov 2025) EndedAt: 2025-11-14 02:42:10 -0000 (Fri, 14 Nov 2025) EllapsedTime: 25.0 seconds RetCode: 0 Status: OK PackageFile: IntramiRExploreR_1.32.0.tar.gz PackageFileSize: 8.902 MiB