Package: IntramiRExploreR Version: 1.30.0 Command: rm -rf IntramiRExploreR.buildbin-libdir && mkdir IntramiRExploreR.buildbin-libdir && E:\biocbuild\bbs-3.21-bioc\R\bin\R.exe CMD INSTALL --build --library=IntramiRExploreR.buildbin-libdir IntramiRExploreR_1.30.0.tar.gz StartedAt: 2025-08-15 09:32:16 -0400 (Fri, 15 Aug 2025) EndedAt: 2025-08-15 09:33:25 -0400 (Fri, 15 Aug 2025) EllapsedTime: 69.7 seconds RetCode: 0 Status: OK PackageFile: IntramiRExploreR_1.30.0.zip PackageFileSize: 13.36 MiB