Package: IntramiRExploreR Version: 1.32.0 Command: /home/biocbuild/bbs-3.22-bioc/R/bin/R CMD INSTALL IntramiRExploreR StartedAt: 2025-11-11 15:15:22 -0500 (Tue, 11 Nov 2025) EndedAt: 2025-11-11 15:15:39 -0500 (Tue, 11 Nov 2025) EllapsedTime: 17.3 seconds RetCode: 0 Status: OK