Package: IntramiRExploreR Version: 1.30.0 Command: /Library/Frameworks/R.framework/Resources/bin/R CMD INSTALL IntramiRExploreR StartedAt: 2025-10-02 15:18:42 -0400 (Thu, 02 Oct 2025) EndedAt: 2025-10-02 15:19:07 -0400 (Thu, 02 Oct 2025) EllapsedTime: 24.8 seconds RetCode: 0 Status: OK