Package: IntramiRExploreR Version: 1.30.0 Command: /Library/Frameworks/R.framework/Resources/bin/R CMD build --keep-empty-dirs --no-resave-data IntramiRExploreR StartedAt: 2025-10-02 19:56:40 -0400 (Thu, 02 Oct 2025) EndedAt: 2025-10-02 19:57:21 -0400 (Thu, 02 Oct 2025) EllapsedTime: 41.5 seconds RetCode: 0 Status: OK PackageFile: IntramiRExploreR_1.30.0.tar.gz PackageFileSize: 8.901 MiB