Package: IntramiRExploreR Version: 1.30.0 Command: rm -rf IntramiRExploreR.buildbin-libdir && mkdir IntramiRExploreR.buildbin-libdir && /Users/biocbuild/BBS/utils/build-universal.sh IntramiRExploreR_1.30.0.tar.gz /Library/Frameworks/R.framework/Resources/bin/R IntramiRExploreR.buildbin-libdir StartedAt: 2025-10-03 13:31:38 -0400 (Fri, 03 Oct 2025) EndedAt: 2025-10-03 13:32:21 -0400 (Fri, 03 Oct 2025) EllapsedTime: 42.9 seconds RetCode: 0 Status: OK PackageFile: IntramiRExploreR_1.30.0.tgz PackageFileSize: 13.35 MiB