Package: InteractiveComplexHeatmap Version: 1.18.0 Command: /home/biocbuild/R/R/bin/R CMD check --install=check:InteractiveComplexHeatmap.install-out.txt --library=/home/biocbuild/R/R/site-library --no-vignettes --timings InteractiveComplexHeatmap_1.18.0.tar.gz StartedAt: 2025-11-18 11:03:18 -0000 (Tue, 18 Nov 2025) EndedAt: 2025-11-18 11:05:26 -0000 (Tue, 18 Nov 2025) EllapsedTime: 128.1 seconds RetCode: 0 Status: OK CheckDir: InteractiveComplexHeatmap.Rcheck Warnings: 0