Package: InteractiveComplexHeatmap Version: 1.18.0 Command: /home/biocbuild/R/R/bin/R CMD build --keep-empty-dirs --no-resave-data InteractiveComplexHeatmap StartedAt: 2025-11-11 02:37:40 -0000 (Tue, 11 Nov 2025) EndedAt: 2025-11-11 02:38:34 -0000 (Tue, 11 Nov 2025) EllapsedTime: 54.0 seconds RetCode: 0 Status: OK PackageFile: InteractiveComplexHeatmap_1.18.0.tar.gz PackageFileSize: 937 KiB