Package: InteractiveComplexHeatmap Version: 1.18.0 Command: /home/biocbuild/bbs-3.22-bioc/R/bin/R CMD INSTALL InteractiveComplexHeatmap StartedAt: 2025-11-11 15:18:55 -0500 (Tue, 11 Nov 2025) EndedAt: 2025-11-11 15:19:07 -0500 (Tue, 11 Nov 2025) EllapsedTime: 12.3 seconds RetCode: 0 Status: OK