Package: InteractiveComplexHeatmap Version: 1.16.0 Command: /home/biocbuild/R/R/bin/R CMD INSTALL InteractiveComplexHeatmap StartedAt: 2025-09-25 20:27:47 -0000 (Thu, 25 Sep 2025) EndedAt: 2025-09-25 20:28:06 -0000 (Thu, 25 Sep 2025) EllapsedTime: 18.9 seconds RetCode: 0 Status: OK