Package: InteractiveComplexHeatmap Version: 1.16.0 Command: /home/biocbuild/R/R/bin/R CMD check --install=check:InteractiveComplexHeatmap.install-out.txt --library=/home/biocbuild/R/R/site-library --no-vignettes --timings InteractiveComplexHeatmap_1.16.0.tar.gz StartedAt: 2025-10-14 10:22:12 -0000 (Tue, 14 Oct 2025) EndedAt: 2025-10-14 10:24:16 -0000 (Tue, 14 Oct 2025) EllapsedTime: 124.1 seconds RetCode: 0 Status: OK CheckDir: InteractiveComplexHeatmap.Rcheck Warnings: 0