Package: InteractiveComplexHeatmap Version: 1.16.0 Command: /home/biocbuild/R/R/bin/R CMD build --keep-empty-dirs --no-resave-data InteractiveComplexHeatmap StartedAt: 2025-09-26 02:44:25 -0000 (Fri, 26 Sep 2025) EndedAt: 2025-09-26 02:45:17 -0000 (Fri, 26 Sep 2025) EllapsedTime: 52.0 seconds RetCode: 0 Status: OK PackageFile: InteractiveComplexHeatmap_1.16.0.tar.gz PackageFileSize: 977 KiB