Package: InteractionSet Version: 1.38.0 Command: /home/biocbuild/R/R/bin/R CMD build --keep-empty-dirs --no-resave-data InteractionSet StartedAt: 2025-11-11 02:37:36 -0000 (Tue, 11 Nov 2025) EndedAt: 2025-11-11 02:38:58 -0000 (Tue, 11 Nov 2025) EllapsedTime: 82.0 seconds RetCode: 0 Status: OK PackageFile: InteractionSet_1.38.0.tar.gz PackageFileSize: 457.5 KiB