Package: InteractionSet Version: 1.38.0 Command: /home/biocbuild/bbs-3.22-bioc/R/bin/R CMD INSTALL InteractionSet StartedAt: 2025-11-13 15:23:27 -0500 (Thu, 13 Nov 2025) EndedAt: 2025-11-13 15:24:11 -0500 (Thu, 13 Nov 2025) EllapsedTime: 43.8 seconds RetCode: 0 Status: OK