Package: InteractionSet Version: 1.38.0 Command: /home/biocbuild/bbs-3.22-bioc/R/bin/R CMD check --install=check:InteractionSet.install-out.txt --library=/home/biocbuild/bbs-3.22-bioc/R/site-library --timings InteractionSet_1.38.0.tar.gz StartedAt: 2025-11-12 00:44:13 -0500 (Wed, 12 Nov 2025) EndedAt: 2025-11-12 00:48:54 -0500 (Wed, 12 Nov 2025) EllapsedTime: 280.3 seconds RetCode: 0 Status: OK CheckDir: InteractionSet.Rcheck Warnings: 0