Package: InteractionSet Version: 1.38.0 Command: /home/biocbuild/bbs-3.22-bioc/R/bin/R CMD build --keep-empty-dirs --no-resave-data --md5 InteractionSet StartedAt: 2025-11-13 18:19:03 -0500 (Thu, 13 Nov 2025) EndedAt: 2025-11-13 18:20:02 -0500 (Thu, 13 Nov 2025) EllapsedTime: 59.0 seconds RetCode: 0 Status: OK PackageFile: InteractionSet_1.38.0.tar.gz PackageFileSize: 394.1 KiB