Package: InteractionSet Version: 1.36.1 Command: /Library/Frameworks/R.framework/Resources/bin/R CMD INSTALL InteractionSet StartedAt: 2025-10-06 15:38:41 -0400 (Mon, 06 Oct 2025) EndedAt: 2025-10-06 15:40:14 -0400 (Mon, 06 Oct 2025) EllapsedTime: 93.5 seconds RetCode: 0 Status: OK