Package: InteractionSet Version: 1.36.1 Command: /Library/Frameworks/R.framework/Resources/bin/R CMD build --keep-empty-dirs --no-resave-data InteractionSet StartedAt: 2025-10-06 19:53:56 -0400 (Mon, 06 Oct 2025) EndedAt: 2025-10-06 19:56:10 -0400 (Mon, 06 Oct 2025) EllapsedTime: 134.4 seconds RetCode: 0 Status: OK PackageFile: InteractionSet_1.36.1.tar.gz PackageFileSize: 391 KiB