Package: InteractionSet Version: 1.36.1 Command: /home/biocbuild/R/R/bin/R CMD INSTALL InteractionSet StartedAt: 2025-09-25 20:36:19 -0000 (Thu, 25 Sep 2025) EndedAt: 2025-09-25 20:37:25 -0000 (Thu, 25 Sep 2025) EllapsedTime: 65.8 seconds RetCode: 0 Status: OK