Package: InteractionSet Version: 1.36.1 Command: /home/biocbuild/R/R/bin/R CMD build --keep-empty-dirs --no-resave-data InteractionSet StartedAt: 2025-09-26 02:44:18 -0000 (Fri, 26 Sep 2025) EndedAt: 2025-09-26 02:45:40 -0000 (Fri, 26 Sep 2025) EllapsedTime: 82.0 seconds RetCode: 0 Status: OK PackageFile: InteractionSet_1.36.1.tar.gz PackageFileSize: 457.2 KiB