Package: InterCellar Version: 2.16.0 Command: /home/biocbuild/bbs-3.22-bioc/R/bin/R CMD INSTALL InterCellar StartedAt: 2025-11-11 15:30:44 -0500 (Tue, 11 Nov 2025) EndedAt: 2025-11-11 15:31:12 -0500 (Tue, 11 Nov 2025) EllapsedTime: 28.0 seconds RetCode: 0 Status: OK