Package: InterCellar Version: 2.16.0 Command: /home/biocbuild/bbs-3.22-bioc/R/bin/R CMD check --install=check:InterCellar.install-out.txt --library=/home/biocbuild/bbs-3.22-bioc/R/site-library --timings InterCellar_2.16.0.tar.gz StartedAt: 2025-11-14 00:49:32 -0500 (Fri, 14 Nov 2025) EndedAt: 2025-11-14 00:52:47 -0500 (Fri, 14 Nov 2025) EllapsedTime: 195.3 seconds RetCode: 0 Status: OK CheckDir: InterCellar.Rcheck Warnings: 0