Package: InterCellar Version: 2.14.0 Command: /Library/Frameworks/R.framework/Resources/bin/R CMD INSTALL InterCellar StartedAt: 2025-10-13 15:48:59 -0400 (Mon, 13 Oct 2025) EndedAt: 2025-10-13 15:49:30 -0400 (Mon, 13 Oct 2025) EllapsedTime: 30.9 seconds RetCode: 0 Status: OK