Package: InterCellar Version: 2.14.0 Command: /Library/Frameworks/R.framework/Resources/bin/R CMD build --keep-empty-dirs --no-resave-data InterCellar StartedAt: 2025-10-14 02:48:17 -0400 (Tue, 14 Oct 2025) EndedAt: 2025-10-14 02:49:06 -0400 (Tue, 14 Oct 2025) EllapsedTime: 48.5 seconds RetCode: 0 Status: OK PackageFile: InterCellar_2.14.0.tar.gz PackageFileSize: 4.016 MiB