Package: InterCellar Version: 2.14.0 Command: rm -rf InterCellar.buildbin-libdir && mkdir InterCellar.buildbin-libdir && /Users/biocbuild/BBS/utils/build-universal.sh InterCellar_2.14.0.tar.gz /Library/Frameworks/R.framework/Resources/bin/R InterCellar.buildbin-libdir StartedAt: 2025-10-15 18:58:18 -0400 (Wed, 15 Oct 2025) EndedAt: 2025-10-15 18:58:54 -0400 (Wed, 15 Oct 2025) EllapsedTime: 36.0 seconds RetCode: 0 Status: OK PackageFile: InterCellar_2.14.0.tgz PackageFileSize: 3.164 MiB