Package: IntEREst Version: 1.34.0 Command: /home/biocbuild/bbs-3.22-bioc/R/bin/R CMD INSTALL IntEREst StartedAt: 2025-11-11 16:00:24 -0500 (Tue, 11 Nov 2025) EndedAt: 2025-11-11 16:01:19 -0500 (Tue, 11 Nov 2025) EllapsedTime: 54.9 seconds RetCode: 0 Status: OK