Package: IntEREst Version: 1.34.0 Command: /home/biocbuild/bbs-3.22-bioc/R/bin/R CMD check --install=check:IntEREst.install-out.txt --library=/home/biocbuild/bbs-3.22-bioc/R/site-library --timings IntEREst_1.34.0.tar.gz StartedAt: 2025-11-12 00:45:05 -0500 (Wed, 12 Nov 2025) EndedAt: 2025-11-12 00:52:22 -0500 (Wed, 12 Nov 2025) EllapsedTime: 437.4 seconds RetCode: 0 Status: OK CheckDir: IntEREst.Rcheck Warnings: 0