Package: IntEREst Version: 1.34.0 Command: /home/biocbuild/bbs-3.22-bioc/R/bin/R CMD build --keep-empty-dirs --no-resave-data --md5 IntEREst StartedAt: 2025-11-11 18:22:02 -0500 (Tue, 11 Nov 2025) EndedAt: 2025-11-11 18:23:34 -0500 (Tue, 11 Nov 2025) EllapsedTime: 92.1 seconds RetCode: 0 Status: OK PackageFile: IntEREst_1.34.0.tar.gz PackageFileSize: 1.424 MiB