Package: IntEREst Version: 1.32.0 Command: /Library/Frameworks/R.framework/Resources/bin/R CMD INSTALL IntEREst StartedAt: 2025-09-29 16:44:59 -0400 (Mon, 29 Sep 2025) EndedAt: 2025-09-29 16:46:54 -0400 (Mon, 29 Sep 2025) EllapsedTime: 115.4 seconds RetCode: 0 Status: OK